BEGIN:VCALENDAR
VERSION:2.0
PRODID:-//Squarespace Inc/Squarespace 6//v6//EN
BEGIN:VEVENT
UID:5f123c825983352e4bcdc520@squarespace.com
DTSTAMP:20210217T123954Z
DTSTART:20200909T180000Z
DTEND:20200909T190000Z
SUMMARY:Gender Glorious Professional Development 
GEO:-37.735152;145.021855
LOCATION:Body Safety Australia\, 132B Wood Street\, Preston\, VIC\, 3072\, 
 Australia
END:VEVENT
END:VCALENDAR
