BEGIN:VCALENDAR
VERSION:2.0
PRODID:-//Squarespace Inc/Squarespace 6//v6//EN
BEGIN:VEVENT
UID:5f123d58f9e57b1bd38f5859@squarespace.com
DTSTAMP:20210217T123719Z
DTSTART:20200819T230000Z
DTEND:20200820T000000Z
SUMMARY:Naked Truths eSafety Workshop for parents of pre-school children 
GEO:-37.735152;145.021855
LOCATION:Body Safety Australia\, 132B Wood Street\, Preston\, VIC\, 3072\, 
 Australia
END:VEVENT
END:VCALENDAR
