BEGIN:VCALENDAR
VERSION:2.0
PRODID:-//Squarespace Inc/Squarespace 6//v6//EN
BEGIN:VEVENT
UID:5f2114d8a49b2952219225e9@squarespace.com
DTSTAMP:20210217T123757Z
DTSTART:20200824T230000Z
DTEND:20200825T000000Z
SUMMARY:Body Safety Superstars Parent Workshop 
GEO:-37.735152;145.021855
LOCATION:Body Safety Australia\, 132B Wood Street\, Preston\, VIC\, 3072\, 
 Australia
END:VEVENT
END:VCALENDAR
