BEGIN:VCALENDAR
VERSION:2.0
PRODID:-//Squarespace Inc/Squarespace 6//v6//EN
BEGIN:VEVENT
UID:5f28d5d3369f5c199165a9de@squarespace.com
DTSTAMP:20210217T123844Z
DTSTART:20200826T230000Z
DTEND:20200827T000000Z
SUMMARY:Naked Truths eSafety Parent Workshop for parents of 5-10 year olds 
GEO:-37.735152;145.021855
LOCATION:Body Safety Australia\, 132B Wood Street\, Preston\, VIC\, 3072\, 
 Australia
END:VEVENT
END:VCALENDAR
