BEGIN:VCALENDAR
VERSION:2.0
PRODID:-//Squarespace Inc/Squarespace 6//v6//EN
BEGIN:VEVENT
UID:5f28d6445c1c811ec51968f3@squarespace.com
DTSTAMP:20210217T123911Z
DTSTART:20200901T220000Z
DTEND:20200901T230000Z
SUMMARY:Body Safety Superstars Professional Development 
GEO:-37.735152;145.021855
LOCATION:Body Safety Australia\, 132B Wood Street\, Preston\, VIC\, 3072\, 
 Australia
END:VEVENT
END:VCALENDAR
