BEGIN:VCALENDAR
VERSION:2.0
PRODID:-//Squarespace Inc/Squarespace 6//v6//EN
BEGIN:VEVENT
UID:5f28d60ee3538d6f2ce11529@squarespace.com
DTSTAMP:20210217T123041Z
DTSTART:20200903T160000Z
DTEND:20200903T170000Z
SUMMARY:Naked Truths eSafety Workshop for parents of 10 - 13 year olds  
GEO:-37.735152;145.021855
LOCATION:Body Safety Australia\, 132B Wood Street\, Preston\, VIC\, 3072\, 
 Australia
END:VEVENT
END:VCALENDAR
