BEGIN:VCALENDAR
VERSION:2.0
PRODID:-//Squarespace Inc/Squarespace 6//v6//EN
BEGIN:VEVENT
UID:5f28d66a1b717317ccabd709@squarespace.com
DTSTAMP:20210217T123938Z
DTSTART:20200907T180000Z
DTEND:20200907T190000Z
SUMMARY:Body Safety Superstars Parent Workshop 
GEO:-37.735152;145.021855
LOCATION:Body Safety Australia\, 132B Wood Street\, Preston\, VIC\, 3072\, 
 Australia
END:VEVENT
END:VCALENDAR
