BEGIN:VCALENDAR
VERSION:2.0
PRODID:-//Squarespace Inc/Squarespace 6//v6//EN
BEGIN:VEVENT
UID:5f123b6b77293d442a40a2e2@squarespace.com
DTSTAMP:20200805T131850Z
DTSTART:20200818T140000Z
DTEND:20200818T150000Z
SUMMARY:Body Safety Superstars Professional Development 
GEO:-37.735152;145.021855
LOCATION:Body Safety Australia\, 132b Wood Street\, Preston\, Australia
END:VEVENT
END:VCALENDAR
